BEGIN:VCALENDAR
VERSION:2.0
PRODID:-//Caf&eacute; Inn 't Lely Veldt - ECPv6.0.11//NONSGML v1.0//EN
CALSCALE:GREGORIAN
METHOD:PUBLISH
X-WR-CALNAME:Caf&eacute; Inn 't Lely Veldt
X-ORIGINAL-URL:https://www.cafeinntlelyveldt.nl
X-WR-CALDESC:Evenementen voor Caf&eacute; Inn 't Lely Veldt
REFRESH-INTERVAL;VALUE=DURATION:PT1H
X-Robots-Tag:noindex
X-PUBLISHED-TTL:PT1H
BEGIN:VTIMEZONE
TZID:Europe/Paris
BEGIN:DAYLIGHT
TZOFFSETFROM:+0100
TZOFFSETTO:+0200
TZNAME:CEST
DTSTART:20240331T010000
END:DAYLIGHT
BEGIN:STANDARD
TZOFFSETFROM:+0200
TZOFFSETTO:+0100
TZNAME:CET
DTSTART:20241027T010000
END:STANDARD
END:VTIMEZONE
BEGIN:VEVENT
DTSTART;VALUE=DATE:20240825
DTEND;VALUE=DATE:20240826
DTSTAMP:20260425T204809
CREATED:20240528T174203Z
LAST-MODIFIED:20240528T174753Z
UID:2072-1724544000-1724630399@www.cafeinntlelyveldt.nl
SUMMARY:Terras gesloten i.v.m. besloten feest
DESCRIPTION:Het terras is gesloten i.v.m. een besloten feest. Ook een feest op deze mooie locatie? Neem contact en vraag naar de vele mogelijkheden.
URL:https://www.cafeinntlelyveldt.nl/event/terras-gesloten-i-v-m-besloten-feest/
ATTACH;FMTTYPE=image/jpeg:https://www.cafeinntlelyveldt.nl/wp-content/uploads/2024/05/prima-begin-van-de-dag.jpeg
END:VEVENT
END:VCALENDAR