BEGIN:VCALENDAR
VERSION:2.0
PRODID:-//Caf&eacute; Inn 't Lely Veldt - ECPv6.0.11//NONSGML v1.0//EN
CALSCALE:GREGORIAN
METHOD:PUBLISH
X-WR-CALNAME:Caf&eacute; Inn 't Lely Veldt
X-ORIGINAL-URL:https://www.cafeinntlelyveldt.nl
X-WR-CALDESC:Evenementen voor Caf&eacute; Inn 't Lely Veldt
REFRESH-INTERVAL;VALUE=DURATION:PT1H
X-Robots-Tag:noindex
X-PUBLISHED-TTL:PT1H
BEGIN:VTIMEZONE
TZID:Europe/Paris
BEGIN:DAYLIGHT
TZOFFSETFROM:+0100
TZOFFSETTO:+0200
TZNAME:CEST
DTSTART:20240331T010000
END:DAYLIGHT
BEGIN:STANDARD
TZOFFSETFROM:+0200
TZOFFSETTO:+0100
TZNAME:CET
DTSTART:20241027T010000
END:STANDARD
END:VTIMEZONE
BEGIN:VEVENT
DTSTART;TZID=Europe/Paris:20241102T200000
DTEND;TZID=Europe/Paris:20241103T020000
DTSTAMP:20260425T150555
CREATED:20240730T185444Z
LAST-MODIFIED:20240819T193722Z
UID:2096-1730577600-1730599200@www.cafeinntlelyveldt.nl
SUMMARY:Ol' Skool Saturdays: Out of the Cage Live!
DESCRIPTION:Out of the Cage bestaat uit vier doorgewinterde muzikanten en brengt een dampende set van alles wat rockmuziek van de afgelopen 50 jaar zo mooi maakt. Soulful\, intensiteit\, swingend\, meerstemmig\, vintage\, stevige rock\, bluesrock met een rand\, steady poprock. Out of the Cage heeft het allemaal! Van vintage rockhits tot vergeten classics.\nOut of the Cage brengt een repertoire met nummers van onder andere the Rolling Stones tot the Black Crowes. Van Tom Petty tot Bad Company. Van Midnight Oil tot Pearl Jam. Voor en door liefhebbers van Classic Rock!\nZaal open 20:00 uur\nEntree €5\nVol=vol
URL:https://www.cafeinntlelyveldt.nl/event/ol-skool-saturdays-live-10/
END:VEVENT
END:VCALENDAR