BEGIN:VCALENDAR
VERSION:2.0
PRODID:-//Caf&eacute; Inn 't Lely Veldt - ECPv6.0.11//NONSGML v1.0//EN
CALSCALE:GREGORIAN
METHOD:PUBLISH
X-WR-CALNAME:Caf&eacute; Inn 't Lely Veldt
X-ORIGINAL-URL:https://www.cafeinntlelyveldt.nl
X-WR-CALDESC:Evenementen voor Caf&eacute; Inn 't Lely Veldt
REFRESH-INTERVAL;VALUE=DURATION:PT1H
X-Robots-Tag:noindex
X-PUBLISHED-TTL:PT1H
BEGIN:VTIMEZONE
TZID:Europe/Paris
BEGIN:DAYLIGHT
TZOFFSETFROM:+0100
TZOFFSETTO:+0200
TZNAME:CEST
DTSTART:20250330T010000
END:DAYLIGHT
BEGIN:STANDARD
TZOFFSETFROM:+0200
TZOFFSETTO:+0100
TZNAME:CET
DTSTART:20251026T010000
END:STANDARD
END:VTIMEZONE
BEGIN:VEVENT
DTSTART;TZID=Europe/Paris:20250101T013000
DTEND;TZID=Europe/Paris:20250102T050000
DTSTAMP:20260425T122629
CREATED:20241122T135340Z
LAST-MODIFIED:20241229T144930Z
UID:2160-1735695000-1735794000@www.cafeinntlelyveldt.nl
SUMMARY:Oud & Nieuw in het Café! Open vanaf 01:30!
DESCRIPTION:Helaas is de kaartverkoop niet zo verlopen als we gehoopt hadden. \nDit houd in dat we net zoals voorgaande jaren gewoon vanaf 01:30 open zijn en het niet nodig is om een kaartje te kopen.
URL:https://www.cafeinntlelyveldt.nl/event/oud-nieuw-in-het-cafe/
END:VEVENT
END:VCALENDAR