BEGIN:VCALENDAR
VERSION:2.0
PRODID:-//Caf&eacute; Inn 't Lely Veldt - ECPv6.0.11//NONSGML v1.0//EN
CALSCALE:GREGORIAN
METHOD:PUBLISH
X-ORIGINAL-URL:https://www.cafeinntlelyveldt.nl
X-WR-CALDESC:Evenementen voor Caf&eacute; Inn 't Lely Veldt
REFRESH-INTERVAL;VALUE=DURATION:PT1H
X-Robots-Tag:noindex
X-PUBLISHED-TTL:PT1H
BEGIN:VTIMEZONE
TZID:Europe/Paris
BEGIN:DAYLIGHT
TZOFFSETFROM:+0100
TZOFFSETTO:+0200
TZNAME:CEST
DTSTART:20250330T010000
END:DAYLIGHT
BEGIN:STANDARD
TZOFFSETFROM:+0200
TZOFFSETTO:+0100
TZNAME:CET
DTSTART:20251026T010000
END:STANDARD
END:VTIMEZONE
BEGIN:VEVENT
DTSTART;TZID=Europe/Paris:20250118T200000
DTEND;TZID=Europe/Paris:20250119T000000
DTSTAMP:20260425T122700
CREATED:20241203T185007Z
LAST-MODIFIED:20241203T185007Z
UID:2167-1737230400-1737244800@www.cafeinntlelyveldt.nl
SUMMARY:Besloten feest 20:00-00:00 uur
DESCRIPTION:Vanavond is het Café gesloten van 20:00 tot 00:00 uur wegens een besloten feest. \nNa 00:00 uur zijn we weer gewoon geopend. \nHeeft u ook iets te vieren? Vraag naar de vele mogelijkheden: hapjes uit onze eigen keuken\, catering\, live muziek\, podium\, dj etc. Neem contact met ons op via 06-84086664 of loop gewoon even binnen.
URL:https://www.cafeinntlelyveldt.nl/event/besloten-feest-2000-0000-uur/
ATTACH;FMTTYPE=image/jpeg:https://www.cafeinntlelyveldt.nl/wp-content/uploads/2022/02/beslotenfeest.jpg
END:VEVENT
END:VCALENDAR