BEGIN:VCALENDAR
VERSION:2.0
PRODID:-//Caf&eacute; Inn 't Lely Veldt - ECPv6.0.11//NONSGML v1.0//EN
CALSCALE:GREGORIAN
METHOD:PUBLISH
X-WR-CALNAME:Caf&eacute; Inn 't Lely Veldt
X-ORIGINAL-URL:https://www.cafeinntlelyveldt.nl
X-WR-CALDESC:Evenementen voor Caf&eacute; Inn 't Lely Veldt
REFRESH-INTERVAL;VALUE=DURATION:PT1H
X-Robots-Tag:noindex
X-PUBLISHED-TTL:PT1H
BEGIN:VTIMEZONE
TZID:Europe/Paris
BEGIN:DAYLIGHT
TZOFFSETFROM:+0100
TZOFFSETTO:+0200
TZNAME:CEST
DTSTART:20250330T010000
END:DAYLIGHT
BEGIN:STANDARD
TZOFFSETFROM:+0200
TZOFFSETTO:+0100
TZNAME:CET
DTSTART:20251026T010000
END:STANDARD
END:VTIMEZONE
BEGIN:VEVENT
DTSTART;TZID=Europe/Paris:20250607T210000
DTEND;TZID=Europe/Paris:20250608T030000
DTSTAMP:20260423T091540
CREATED:20250414T200237Z
LAST-MODIFIED:20250414T201213Z
UID:2240-1749330000-1749351600@www.cafeinntlelyveldt.nl
SUMMARY:Marylebone Live!
DESCRIPTION:Nieuwveen: kom deze waanzinnig goeie band zien! Luister maar naar ze -zie link onderin- om jezelf te overtuigen. Inn ’t Lely Veldt is trots dat ze hier komen spelen! \nMarylebone is een Nederlandse Modern Rock/Blues-formatie bestaande uit zanger Teun van Keeken\, gitarist Maurice van Wijk\, drummer Sicko Octovianus en bassist Bas Bach. Allemaal gepassioneerde muzikanten met een flink dosis ervaring in de muziekscene\, festivals\, Paradiso\, Melkweg\, radio\, en meer…. Elke keer weer klaar om hun passie voor muziek te delen met het publiek\, en deze te grijpen met veel energie\, dynamiek\, goed verzorgde muzikaliteit en warme zang. \nMarylebone dankt zijn naam aan de chique woonwijk Marylebone (Mah:lie:bun) in London\, waar o.a. Jimi Hendrix en Paul McCartney woonden. Een plek waar oude en nieuwe inspiratie elkaar tegenkomen. De band speelt nummers van o.a. Joe Bonamassa\, SRV\, Gary Clarke Jr\, Eric Gales\, Philip Sayce\, Henrik Freischlader\, John Mayer Trio\, Gov’t Mule en meer…. \nEntree gratis \nLuisteren en bekijken:https://marylebone.nl/
URL:https://www.cafeinntlelyveldt.nl/event/marylebone-live/
END:VEVENT
END:VCALENDAR