BEGIN:VCALENDAR
VERSION:2.0
PRODID:-//Caf&eacute; Inn 't Lely Veldt - ECPv6.0.11//NONSGML v1.0//EN
CALSCALE:GREGORIAN
METHOD:PUBLISH
X-ORIGINAL-URL:https://www.cafeinntlelyveldt.nl
X-WR-CALDESC:Evenementen voor Caf&eacute; Inn 't Lely Veldt
REFRESH-INTERVAL;VALUE=DURATION:PT1H
X-Robots-Tag:noindex
X-PUBLISHED-TTL:PT1H
BEGIN:VTIMEZONE
TZID:Europe/Paris
BEGIN:DAYLIGHT
TZOFFSETFROM:+0100
TZOFFSETTO:+0200
TZNAME:CEST
DTSTART:20250330T010000
END:DAYLIGHT
BEGIN:STANDARD
TZOFFSETFROM:+0200
TZOFFSETTO:+0100
TZNAME:CET
DTSTART:20251026T010000
END:STANDARD
END:VTIMEZONE
BEGIN:VEVENT
DTSTART;TZID=Europe/Paris:20251115T180000
DTEND;TZID=Europe/Paris:20251116T020000
DTSTAMP:20260422T235539
CREATED:20250714T175528Z
LAST-MODIFIED:20250912T123144Z
UID:2252-1763229600-1763258400@www.cafeinntlelyveldt.nl
SUMMARY:The Dijk Scene Live!
DESCRIPTION:Het beste van de Dijk en The Scene: dat is dus ook veel moois van de Nederpop. Bekende gezichten in deze grote coverband\, ontstaan na Vrienden van Langeraar in 2023. De beste muzikanten uit de regio in 1 band\, dit belooft weer een druk bezochte avond te worden\, dus kom op tijd! \nZaal open 20:00 uur • entree €5 \nOl’ Skool Saturdays: Een gezellige avond met lekkere live muziek en bitterballen!
URL:https://www.cafeinntlelyveldt.nl/event/ol-skool-saturdays-vrienden-van-langeraar-live/
END:VEVENT
BEGIN:VEVENT
DTSTART;VALUE=DATE:20251116
DTEND;VALUE=DATE:20251117
DTSTAMP:20260422T235539
CREATED:20251106T180640Z
LAST-MODIFIED:20251106T180640Z
UID:2313-1763251200-1763337599@www.cafeinntlelyveldt.nl
SUMMARY:Besloten feest (gehele dag)
DESCRIPTION:Vandaag is het Café de hele dag gesloten wegens een besloten feest. Heeft u ook iets te vieren? Vraag naar de vele mogelijkheden: hapjes uit onze eigen keuken\, catering\, live muziek\, podium\, dj etc. Neem contact met ons op via 06-84086664 of loop gewoon even binnen.
URL:https://www.cafeinntlelyveldt.nl/event/besloten-feest-gehele-dag/
ATTACH;FMTTYPE=image/jpeg:https://www.cafeinntlelyveldt.nl/wp-content/uploads/2022/02/beslotenfeest.jpg
END:VEVENT
END:VCALENDAR