BEGIN:VCALENDAR
VERSION:2.0
PRODID:-//Caf&eacute; Inn 't Lely Veldt - ECPv6.0.11//NONSGML v1.0//EN
CALSCALE:GREGORIAN
METHOD:PUBLISH
X-WR-CALNAME:Caf&eacute; Inn 't Lely Veldt
X-ORIGINAL-URL:https://www.cafeinntlelyveldt.nl
X-WR-CALDESC:Evenementen voor Caf&eacute; Inn 't Lely Veldt
REFRESH-INTERVAL;VALUE=DURATION:PT1H
X-Robots-Tag:noindex
X-PUBLISHED-TTL:PT1H
BEGIN:VTIMEZONE
TZID:Europe/Paris
BEGIN:DAYLIGHT
TZOFFSETFROM:+0100
TZOFFSETTO:+0200
TZNAME:CEST
DTSTART:20250330T010000
END:DAYLIGHT
BEGIN:STANDARD
TZOFFSETFROM:+0200
TZOFFSETTO:+0100
TZNAME:CET
DTSTART:20251026T010000
END:STANDARD
END:VTIMEZONE
BEGIN:VEVENT
DTSTART;TZID=Europe/Paris:20251220T200000
DTEND;TZID=Europe/Paris:20251221T020000
DTSTAMP:20260422T222121
CREATED:20250714T175726Z
LAST-MODIFIED:20250912T122948Z
UID:2254-1766260800-1766282400@www.cafeinntlelyveldt.nl
SUMMARY:Live: Niet Daar!
DESCRIPTION:“Wij zijn een energieke\, ietwat gekke band die rock covers speelt met een twist. Ons repertoire bestaat uit herkenbare nummers maar ook originele nummers waar niet elke coverband zich aan waagt”. Het plezier dat wij samen op het podium hebben werkt aanstekelijk! Ongegeneerd meebleren is toegestaan. \nAnnemieke: basgitaar en backing vocals; Cor : drums\, sampler; Marko: gitaar en backing vocals; Michiel: gitaar; Tanja: zang \nKijken \nZaal open 20:00 uur\, entree €5 \nEen gezellige avond met lekkere live muziek en bitterballen!
URL:https://www.cafeinntlelyveldt.nl/event/ol-skool-saturdays-3/
END:VEVENT
END:VCALENDAR