BEGIN:VCALENDAR
VERSION:2.0
PRODID:-//Caf&eacute; Inn 't Lely Veldt - ECPv6.0.11//NONSGML v1.0//EN
CALSCALE:GREGORIAN
METHOD:PUBLISH
X-WR-CALNAME:Caf&eacute; Inn 't Lely Veldt
X-ORIGINAL-URL:https://www.cafeinntlelyveldt.nl
X-WR-CALDESC:Evenementen voor Caf&eacute; Inn 't Lely Veldt
REFRESH-INTERVAL;VALUE=DURATION:PT1H
X-Robots-Tag:noindex
X-PUBLISHED-TTL:PT1H
BEGIN:VTIMEZONE
TZID:Europe/Paris
BEGIN:DAYLIGHT
TZOFFSETFROM:+0100
TZOFFSETTO:+0200
TZNAME:CEST
DTSTART:20260329T010000
END:DAYLIGHT
BEGIN:STANDARD
TZOFFSETFROM:+0200
TZOFFSETTO:+0100
TZNAME:CET
DTSTART:20261025T010000
END:STANDARD
END:VTIMEZONE
BEGIN:VEVENT
DTSTART;TZID=Europe/Paris:20260214T193000
DTEND;TZID=Europe/Paris:20260214T233000
DTSTAMP:20260422T192033
CREATED:20260112T183330Z
LAST-MODIFIED:20260112T183842Z
UID:2395-1771097400-1771111800@www.cafeinntlelyveldt.nl
SUMMARY:Koppeldart Toernooi
DESCRIPTION:Op 14 februari kun je met je maat of vriend of vriendin gezellig komen koppeldarten! \nInschrijfgeld €10 per koppel \nJe kunt je nu al opgeven aan de bar of via 06-84086664 \nAanvang 19:30 uur\, Starten 20:00 uur \nMeer info volgt
URL:https://www.cafeinntlelyveldt.nl/event/koppeldart-toernooi/
ATTACH;FMTTYPE=image/jpeg:https://www.cafeinntlelyveldt.nl/wp-content/uploads/2026/01/dart-board-1247083-16-9.jpg
END:VEVENT
END:VCALENDAR