BEGIN:VCALENDAR
VERSION:2.0
PRODID:-//Caf&eacute; Inn 't Lely Veldt - ECPv6.0.11//NONSGML v1.0//EN
CALSCALE:GREGORIAN
METHOD:PUBLISH
X-ORIGINAL-URL:https://www.cafeinntlelyveldt.nl
X-WR-CALDESC:Evenementen voor Caf&eacute; Inn 't Lely Veldt
REFRESH-INTERVAL;VALUE=DURATION:PT1H
X-Robots-Tag:noindex
X-PUBLISHED-TTL:PT1H
BEGIN:VTIMEZONE
TZID:Europe/Paris
BEGIN:DAYLIGHT
TZOFFSETFROM:+0100
TZOFFSETTO:+0200
TZNAME:CEST
DTSTART:20260329T010000
END:DAYLIGHT
BEGIN:STANDARD
TZOFFSETFROM:+0200
TZOFFSETTO:+0100
TZNAME:CET
DTSTART:20261025T010000
END:STANDARD
END:VTIMEZONE
BEGIN:VEVENT
DTSTART;TZID=Europe/Paris:20260228T200000
DTEND;TZID=Europe/Paris:20260301T020000
DTSTAMP:20260422T174029
CREATED:20251223T184025Z
LAST-MODIFIED:20260102T201857Z
UID:2354-1772308800-1772330400@www.cafeinntlelyveldt.nl
SUMMARY:Ol' Skool Saturdays: Just Got Paid LIVE!
DESCRIPTION:Just Got Paid BluesRockBand (genoemd naar een nummer van ZZ-top en de geweldige cover  van bluesrock gitarist Joe Bonamassa) zijn ervaren muzikanten met een passie voor lekkere vette bluesrock\, maar ze spelen ook “stevige” poprock nummers\, waarbij klassieke oldies van  Clapton\, Stones\, Deep Purple\, Herman Brood en Hendrix niet ontbreken. Maar er zijn ook minder bekende\, verrassende covers en ingetogen blues te vinden. \nJust Got Paid speelt in de klassieke rockband bezetting met zang (Martin)\, gitaar (Alex)\, bas (Jos)\, drums (Leo) en toetsen (Martin).  Door eigen arrangementen en instrumentaties voegt de band altijd iets toe aan de nummers zonder inbreuk te plegen op de karakteristieke kern van het nummer.  Zo ontstaat er een mix\, waarin ze willen verrassen en ons onderscheiden. \nPromo: \n\nOl’ Skool Saturdays: iedere maand live muziek! \nEntree €5 \nZaal open 20:00 uur \nTip: vier je verjaardag eens anders dan rondom de tafel! Gezellig in de kroeg met live muziek: vraag naar de vele mogelijkheden.
URL:https://www.cafeinntlelyveldt.nl/event/ol-skool-saturdays-live-15/
ATTACH;FMTTYPE=image/jpeg:https://www.cafeinntlelyveldt.nl/wp-content/uploads/2025/12/justgotpaid.jpg
END:VEVENT
END:VCALENDAR