BEGIN:VCALENDAR
VERSION:2.0
PRODID:-//Caf&eacute; Inn 't Lely Veldt - ECPv6.0.11//NONSGML v1.0//EN
CALSCALE:GREGORIAN
METHOD:PUBLISH
X-WR-CALNAME:Caf&eacute; Inn 't Lely Veldt
X-ORIGINAL-URL:https://www.cafeinntlelyveldt.nl
X-WR-CALDESC:Evenementen voor Caf&eacute; Inn 't Lely Veldt
REFRESH-INTERVAL;VALUE=DURATION:PT1H
X-Robots-Tag:noindex
X-PUBLISHED-TTL:PT1H
BEGIN:VTIMEZONE
TZID:Europe/Paris
BEGIN:DAYLIGHT
TZOFFSETFROM:+0100
TZOFFSETTO:+0200
TZNAME:CEST
DTSTART:20260329T010000
END:DAYLIGHT
BEGIN:STANDARD
TZOFFSETFROM:+0200
TZOFFSETTO:+0100
TZNAME:CET
DTSTART:20261025T010000
END:STANDARD
END:VTIMEZONE
BEGIN:VEVENT
DTSTART;TZID=Europe/Paris:20260307T203000
DTEND;TZID=Europe/Paris:20260308T020000
DTSTAMP:20260422T173920
CREATED:20251221T162356Z
LAST-MODIFIED:20251221T162356Z
UID:2352-1772915400-1772935200@www.cafeinntlelyveldt.nl
SUMMARY:Besloten Feest vanaf 20:30 uur
DESCRIPTION:Vanavond is het Café vanaf 20:30 uur gesloten wegens een besloten feest. Heeft u ook iets te vieren? Vraag naar de vele mogelijkheden: hapjes uit onze eigen keuken\, catering\, live muziek\, podium\, dj etc. Neem contact met ons op via 06-84086664 of loop gewoon even binnen.
URL:https://www.cafeinntlelyveldt.nl/event/besloten-feest-vanaf-2030-uur-2/
ATTACH;FMTTYPE=image/jpeg:https://www.cafeinntlelyveldt.nl/wp-content/uploads/2022/02/beslotenfeest.jpg
END:VEVENT
END:VCALENDAR