BEGIN:VCALENDAR
VERSION:2.0
PRODID:-//Caf&eacute; Inn 't Lely Veldt - ECPv6.0.11//NONSGML v1.0//EN
CALSCALE:GREGORIAN
METHOD:PUBLISH
X-ORIGINAL-URL:https://www.cafeinntlelyveldt.nl
X-WR-CALDESC:Evenementen voor Caf&eacute; Inn 't Lely Veldt
REFRESH-INTERVAL;VALUE=DURATION:PT1H
X-Robots-Tag:noindex
X-PUBLISHED-TTL:PT1H
BEGIN:VTIMEZONE
TZID:Europe/Paris
BEGIN:DAYLIGHT
TZOFFSETFROM:+0100
TZOFFSETTO:+0200
TZNAME:CEST
DTSTART:20260329T010000
END:DAYLIGHT
BEGIN:STANDARD
TZOFFSETFROM:+0200
TZOFFSETTO:+0100
TZNAME:CET
DTSTART:20261025T010000
END:STANDARD
END:VTIMEZONE
BEGIN:VEVENT
DTSTART;TZID=Europe/Paris:20260321T200000
DTEND;TZID=Europe/Paris:20260322T020000
DTSTAMP:20260422T174045
CREATED:20251223T184242Z
LAST-MODIFIED:20260110T140401Z
UID:2360-1774123200-1774144800@www.cafeinntlelyveldt.nl
SUMMARY:Ol' Skool Saturdays: Out of the Cage LIVE!
DESCRIPTION:Out of the Cage: deze doorgewinterde muzikanten spelen een heerlijke set van alles wat rockmuziek van de afgelopen 50 jaar zo mooi maakt: soulful\, intens\, swingend\, meerstemmig\, vintage\, stevige rock\, bluesrock met een randje\, steady poprock. Out of the Cage heeft het allemaal! Van vintage rockhits tot vergeten classics.\nOut of the Cage brengt een repertoire met nummers van veel van hun voorbeelden: Rolling Stones\, Black Crowes\, Tom Petty\, Bad Company\, Midnight Oil\, Pearl Jam. Voor en door liefhebbers van Classic Rock! \nLive zien: \n\nFotografie: copyright Pim Bakker \nOl’ Skool Saturdays: iedere maand live muziek! \nEntree €5 \nZaal open 20:00 uur \nTip: vier je verjaardag eens anders dan rondom de tafel! Gezellig in de kroeg met live muziek: vraag naar de vele mogelijkheden. \n 
URL:https://www.cafeinntlelyveldt.nl/event/ol-skool-saturdays-live-17/
ATTACH;FMTTYPE=image/jpeg:https://www.cafeinntlelyveldt.nl/wp-content/uploads/2025/12/PIB2377DN-low-light-16-9.jpg
END:VEVENT
END:VCALENDAR