BEGIN:VCALENDAR
VERSION:2.0
PRODID:-//Caf&eacute; Inn 't Lely Veldt - ECPv6.0.11//NONSGML v1.0//EN
CALSCALE:GREGORIAN
METHOD:PUBLISH
X-WR-CALNAME:Caf&eacute; Inn 't Lely Veldt
X-ORIGINAL-URL:https://www.cafeinntlelyveldt.nl
X-WR-CALDESC:Evenementen voor Caf&eacute; Inn 't Lely Veldt
REFRESH-INTERVAL;VALUE=DURATION:PT1H
X-Robots-Tag:noindex
X-PUBLISHED-TTL:PT1H
BEGIN:VTIMEZONE
TZID:Europe/Paris
BEGIN:DAYLIGHT
TZOFFSETFROM:+0100
TZOFFSETTO:+0200
TZNAME:CEST
DTSTART:20260329T010000
END:DAYLIGHT
BEGIN:STANDARD
TZOFFSETFROM:+0200
TZOFFSETTO:+0100
TZNAME:CET
DTSTART:20261025T010000
END:STANDARD
END:VTIMEZONE
BEGIN:VEVENT
DTSTART;TZID=Europe/Paris:20260418T200000
DTEND;TZID=Europe/Paris:20260419T020000
DTSTAMP:20260422T160847
CREATED:20251223T184152Z
LAST-MODIFIED:20260213T185245Z
UID:2358-1776542400-1776564000@www.cafeinntlelyveldt.nl
SUMMARY:Ol' Skool Saturdays: Gonzo LIVE!
DESCRIPTION:Gonzo: uitdagende covers die net even op een andere manier worden gespeeld. Op deze manier onderscheidt Gonzo zich van andere coverbands. Verrassend en eigentijds! \nVan AC/DC naar The Beatles door naar ZZ Top! Lekker rocken dus! \nPromo: \n\n  \nOl’ Skool Saturdays: iedere maand live muziek! \nEntree €5 \nZaal open 20:00 uur \nTip: vier je verjaardag eens anders dan rondom de tafel! Gezellig in de kroeg met live muziek: vraag naar de vele mogelijkheden.
URL:https://www.cafeinntlelyveldt.nl/event/ol-skool-saturdays-live-16/
ATTACH;FMTTYPE=image/jpeg:https://www.cafeinntlelyveldt.nl/wp-content/uploads/2026/01/gonzo-16-9.jpg
END:VEVENT
END:VCALENDAR