BEGIN:VCALENDAR
VERSION:2.0
PRODID:-//Caf&eacute; Inn 't Lely Veldt - ECPv6.0.11//NONSGML v1.0//EN
CALSCALE:GREGORIAN
METHOD:PUBLISH
X-WR-CALNAME:Caf&eacute; Inn 't Lely Veldt
X-ORIGINAL-URL:https://www.cafeinntlelyveldt.nl
X-WR-CALDESC:Evenementen voor Caf&eacute; Inn 't Lely Veldt
REFRESH-INTERVAL;VALUE=DURATION:PT1H
X-Robots-Tag:noindex
X-PUBLISHED-TTL:PT1H
BEGIN:VTIMEZONE
TZID:Europe/Paris
BEGIN:DAYLIGHT
TZOFFSETFROM:+0100
TZOFFSETTO:+0200
TZNAME:CEST
DTSTART:20190331T010000
END:DAYLIGHT
BEGIN:STANDARD
TZOFFSETFROM:+0200
TZOFFSETTO:+0100
TZNAME:CET
DTSTART:20191027T010000
END:STANDARD
END:VTIMEZONE
BEGIN:VEVENT
DTSTART;TZID=Europe/Paris:20191123T210000
DTEND;TZID=Europe/Paris:20191123T210000
DTSTAMP:20260423T184131
CREATED:20190916T101411Z
LAST-MODIFIED:20190916T101411Z
UID:1282-1574542800-1574542800@www.cafeinntlelyveldt.nl
SUMMARY:Ol' Skool Saturdays: Sixpack LIVE!
DESCRIPTION:Coverband Sixpack \nDeze allround band speelt hits van Bløf tot Mariah Carey\, dus: dansbaar\, herkenbaar en voor iedereen! Belooft een supergezellige avond te worden! \nOl’ Skool Saturdays: bijna iedere maand\, altijd op een zaterdag\, een avond met live muziek! Simpel: aan de deur betaal je 5 euro (tenzij anders vermeld)\, daar krijg je een consumptiemunt voor en we gaan rond met lekkere hapjes. Een avond gezelligheid dus! Zaal open om 21:00 uur. \nIdee: vier je verjaardag in de kroeg met live muziek tijdens Ol’ Skool Saturdays! Vraag naar de mogelijkheden.
URL:https://www.cafeinntlelyveldt.nl/event/ol-skool-saturdays-sixpack-live/
ATTACH;FMTTYPE=image/jpeg:https://www.cafeinntlelyveldt.nl/wp-content/uploads/2019/05/sixpack.jpg
END:VEVENT
END:VCALENDAR