BEGIN:VCALENDAR
VERSION:2.0
PRODID:-//Caf&eacute; Inn 't Lely Veldt - ECPv6.0.11//NONSGML v1.0//EN
CALSCALE:GREGORIAN
METHOD:PUBLISH
X-ORIGINAL-URL:https://www.cafeinntlelyveldt.nl
X-WR-CALDESC:Evenementen voor Caf&eacute; Inn 't Lely Veldt
REFRESH-INTERVAL;VALUE=DURATION:PT1H
X-Robots-Tag:noindex
X-PUBLISHED-TTL:PT1H
BEGIN:VTIMEZONE
TZID:Europe/Paris
BEGIN:DAYLIGHT
TZOFFSETFROM:+0100
TZOFFSETTO:+0200
TZNAME:CEST
DTSTART:20240331T010000
END:DAYLIGHT
BEGIN:STANDARD
TZOFFSETFROM:+0200
TZOFFSETTO:+0100
TZNAME:CET
DTSTART:20241027T010000
END:STANDARD
END:VTIMEZONE
BEGIN:VEVENT
DTSTART;TZID=Europe/Paris:20240616T150000
DTEND;TZID=Europe/Paris:20240616T233000
DTSTAMP:20260426T011110
CREATED:20240528T171854Z
LAST-MODIFIED:20240528T171854Z
UID:2052-1718550000-1718580600@www.cafeinntlelyveldt.nl
SUMMARY:EK: Nederland-Polen op groot scherm
DESCRIPTION:In de kroeg op de tribune! \nDe eerste groepswedstrijd van Nederland is tegen Polen. Het lukte de Polen niet om zich direct te kwalificeren voor het EK voetbal\, maar Polen kwalificeerde zich pas in maart 2024 via de EK playoffs. Op zondag 16 juli om 15.00 uur spelen Nederland en Polen tegen elkaar. Het is de eerste wedstrijd in de poule en meteen een belangrijke\, want met Frankrijk en Oostenrijk in de poule\, is dit direct een belangrijke wedstrijd.
URL:https://www.cafeinntlelyveldt.nl/event/ek-nederland-polen-op-groot-scherm/
END:VEVENT
BEGIN:VEVENT
DTSTART;TZID=Europe/Paris:20240621T210000
DTEND;TZID=Europe/Paris:20240621T233000
DTSTAMP:20260426T011110
CREATED:20240528T172212Z
LAST-MODIFIED:20240528T172212Z
UID:2055-1719003600-1719012600@www.cafeinntlelyveldt.nl
SUMMARY:EK: Nederland-Frankrijk op groot scherm!
DESCRIPTION:In de tweede groepswedstrijd speelt Nederland tegen Frankrijk. De twee landen zijn geen onbekenden van elkaar\, onlangs speelden ze nog twee keer tegen elkaar tijdens de EK-kwalificatie. Op 24 maart 2023 werd het in Parijs 4-0 voor Frankrijk en in de Johan Cruijff ArenA (13 oktober 2023) verloor het Nederlands elftal met 1-2 van de Fransen.
URL:https://www.cafeinntlelyveldt.nl/event/ek-nederland-frankrijk-op-groot-scherm/
END:VEVENT
BEGIN:VEVENT
DTSTART;TZID=Europe/Paris:20240625T180000
DTEND;TZID=Europe/Paris:20240625T233000
DTSTAMP:20260426T011110
CREATED:20240528T172408Z
LAST-MODIFIED:20240528T172408Z
UID:2057-1719338400-1719358200@www.cafeinntlelyveldt.nl
SUMMARY:EK: Nederland-Oostenrijk
DESCRIPTION:In de derde en laatste groepswedstrijd van Nederland speelt het Nederlands elftal tegen Oostenrijk. Nederland en Oostenrijk speelden twintig keer eerder tegen elkaar en nemen het op 25 juni 2024 om 18.00 uur weer tegen elkaar op\, dit keer op het EK 2024 voetbal.
URL:https://www.cafeinntlelyveldt.nl/event/ek-nederland-oostenrijk/
END:VEVENT
BEGIN:VEVENT
DTSTART;TZID=Europe/Paris:20240628T150000
DTEND;TZID=Europe/Paris:20240628T233000
DTSTAMP:20260426T011110
CREATED:20240528T172836Z
LAST-MODIFIED:20240528T172837Z
UID:2059-1719586800-1719617400@www.cafeinntlelyveldt.nl
SUMMARY:Dorpsstraatfeest!
DESCRIPTION:Altijd gezellig: de braderie en alles er om heen! \nKijk hier voor het programma! \nKom gezellig wat eten en drinken bij het café!
URL:https://www.cafeinntlelyveldt.nl/event/dorpsstraatfeest/
END:VEVENT
END:VCALENDAR