BEGIN:VCALENDAR
VERSION:2.0
PRODID:-//Caf&eacute; Inn 't Lely Veldt - ECPv6.0.11//NONSGML v1.0//EN
CALSCALE:GREGORIAN
METHOD:PUBLISH
X-ORIGINAL-URL:https://www.cafeinntlelyveldt.nl
X-WR-CALDESC:Evenementen voor Caf&eacute; Inn 't Lely Veldt
REFRESH-INTERVAL;VALUE=DURATION:PT1H
X-Robots-Tag:noindex
X-PUBLISHED-TTL:PT1H
BEGIN:VTIMEZONE
TZID:Europe/Paris
BEGIN:DAYLIGHT
TZOFFSETFROM:+0100
TZOFFSETTO:+0200
TZNAME:CEST
DTSTART:20240331T010000
END:DAYLIGHT
BEGIN:STANDARD
TZOFFSETFROM:+0200
TZOFFSETTO:+0100
TZNAME:CET
DTSTART:20241027T010000
END:STANDARD
END:VTIMEZONE
BEGIN:VEVENT
DTSTART;VALUE=DATE:20240908
DTEND;VALUE=DATE:20240909
DTSTAMP:20260425T163301
CREATED:20240528T174617Z
LAST-MODIFIED:20240830T075558Z
UID:2074-1725753600-1725839999@www.cafeinntlelyveldt.nl
SUMMARY:Beach volleybal toernooi met BBQ
DESCRIPTION:Ieder jaar supergezellig! Opgeven met je team kan nu al. Na afloop een heerlijke BBQ!\nKom gezellig kijken of speel mee! Inschrijven kan tot uiterlijk vrijdag 6 september.
URL:https://www.cafeinntlelyveldt.nl/event/beach-volleybal-toernooi-met-bbq/
END:VEVENT
BEGIN:VEVENT
DTSTART;TZID=Europe/Paris:20240914T200000
DTEND;TZID=Europe/Paris:20240915T020000
DTSTAMP:20260425T163301
CREATED:20240828T165207Z
LAST-MODIFIED:20240828T165207Z
UID:2124-1726344000-1726365600@www.cafeinntlelyveldt.nl
SUMMARY:Besloten feest
DESCRIPTION:Vanavond zijn we vanaf 20:00 uur gesloten i.v.m. een besloten feest. Wilt u ook uw eigen feest in de kroeg? Neem contact op voor de vele mogelijkheden: catering\, eigen keuken\, dj\, podium etc. Ons team verzorgt uw complete avond!
URL:https://www.cafeinntlelyveldt.nl/event/besloten-feest-35/
ATTACH;FMTTYPE=image/jpeg:https://www.cafeinntlelyveldt.nl/wp-content/uploads/2022/02/beslotenfeest.jpg
END:VEVENT
BEGIN:VEVENT
DTSTART;TZID=Europe/Paris:20240928T203000
DTEND;TZID=Europe/Paris:20240929T020000
DTSTAMP:20260425T163301
CREATED:20240604T153515Z
LAST-MODIFIED:20240828T165531Z
UID:2080-1727555400-1727575200@www.cafeinntlelyveldt.nl
SUMMARY:Besloten Feest
DESCRIPTION:Vanavond zijn we vanaf 20:30 uur gesloten i.v.m. een besloten feest. Wilt u ook uw eigen feest in de kroeg? Neem contact op voor de vele mogelijkheden: catering\, eigen keuken\, dj\, podium etc. Ons team verzorgt uw complete avond!
URL:https://www.cafeinntlelyveldt.nl/event/besloten-feest-36/
ATTACH;FMTTYPE=image/jpeg:https://www.cafeinntlelyveldt.nl/wp-content/uploads/2022/02/beslotenfeest.jpg
END:VEVENT
END:VCALENDAR