BEGIN:VCALENDAR
VERSION:2.0
PRODID:-//Caf&eacute; Inn 't Lely Veldt - ECPv6.0.11//NONSGML v1.0//EN
CALSCALE:GREGORIAN
METHOD:PUBLISH
X-ORIGINAL-URL:https://www.cafeinntlelyveldt.nl
X-WR-CALDESC:Evenementen voor Caf&eacute; Inn 't Lely Veldt
REFRESH-INTERVAL;VALUE=DURATION:PT1H
X-Robots-Tag:noindex
X-PUBLISHED-TTL:PT1H
BEGIN:VTIMEZONE
TZID:Europe/Paris
BEGIN:DAYLIGHT
TZOFFSETFROM:+0100
TZOFFSETTO:+0200
TZNAME:CEST
DTSTART:20240331T010000
END:DAYLIGHT
BEGIN:STANDARD
TZOFFSETFROM:+0200
TZOFFSETTO:+0100
TZNAME:CET
DTSTART:20241027T010000
END:STANDARD
END:VTIMEZONE
BEGIN:VEVENT
DTSTART;TZID=Europe/Paris:20241004T200000
DTEND;TZID=Europe/Paris:20241005T010000
DTSTAMP:20260425T150633
CREATED:20240604T154603Z
LAST-MODIFIED:20240604T154603Z
UID:2082-1728072000-1728090000@www.cafeinntlelyveldt.nl
SUMMARY:Besloten Feest; open na 01:00 uur
DESCRIPTION:Vanavond zijn we vanaf 20:00 uur gesloten i.v.m. een besloten feest. Wilt u ook uw eigen feest in de kroeg? Neem contact op voor de vele mogelijkheden: catering\, eigen keuken\, dj\, podium etc. Ons team verzorgt uw complete avond!\nNa 01:00 uur zijn we weer open!
URL:https://www.cafeinntlelyveldt.nl/event/besloten-feest-open-na-0100-uur/
ATTACH;FMTTYPE=image/jpeg:https://www.cafeinntlelyveldt.nl/wp-content/uploads/2022/02/beslotenfeest.jpg
END:VEVENT
BEGIN:VEVENT
DTSTART;TZID=Europe/Paris:20241006T160000
DTEND;TZID=Europe/Paris:20241007T020000
DTSTAMP:20260425T150633
CREATED:20240828T165723Z
LAST-MODIFIED:20240828T165723Z
UID:2129-1728230400-1728266400@www.cafeinntlelyveldt.nl
SUMMARY:Besloten feest
DESCRIPTION:Vandaag zijn we vanaf 16:00 uur gesloten i.v.m. een besloten feest. Wilt u ook uw eigen feest in de kroeg? Neem contact op voor de vele mogelijkheden: catering\, eigen keuken\, dj\, podium etc. Ons team verzorgt uw complete avond!
URL:https://www.cafeinntlelyveldt.nl/event/besloten-feest-37/
ATTACH;FMTTYPE=image/jpeg:https://www.cafeinntlelyveldt.nl/wp-content/uploads/2022/02/beslotenfeest.jpg
END:VEVENT
BEGIN:VEVENT
DTSTART;TZID=Europe/Paris:20241019T200000
DTEND;TZID=Europe/Paris:20241020T020000
DTSTAMP:20260425T150633
CREATED:20240730T185047Z
LAST-MODIFIED:20240806T173630Z
UID:2094-1729368000-1729389600@www.cafeinntlelyveldt.nl
SUMMARY:Ol' Skool Saturdays: Niki Buzz & The Midnight Bluesexpress!
DESCRIPTION:NIKI BUZZ is een legendarische Amerikaanse gitarist en zanger\, die zijn sporen wel verdiend heeft. NIKI heeft in Amerika getourd en is de laatste jaren vooral actief in Europa.\nSamen met THE MIDNIGHT BLUESEXPRESS is NIKI nu op het podium in Café Inn ’t Lely Veldt te bewonderen met een mix van blues\, rock\, funk & soul. Bluesklassiekers (van o.a. Robert Johnson\, Muddy Waters en Albert Colins) worden afgewisseld met een medley van CCR en andere lekkere klassiekers. In THE MIDNIGHT BLUESEXPRESS spelen de broers Cees en Wil Slats op respectievelijk Gitaar/zang en drums/zang. Beiden al jaren actief in diverse regionale bands en nu in de band van NIKI. Op de bas de ervaren bassist en zanger Rob van Mook. \npromo \nZaal open 20:00 uur\nEntree €5\nVol=vol
URL:https://www.cafeinntlelyveldt.nl/event/ol-skool-saturdays-live-9/
END:VEVENT
BEGIN:VEVENT
DTSTART;TZID=Europe/Paris:20241026T200000
DTEND;TZID=Europe/Paris:20241027T020000
DTSTAMP:20260425T150633
CREATED:20240828T165843Z
LAST-MODIFIED:20240828T165843Z
UID:2131-1729972800-1729994400@www.cafeinntlelyveldt.nl
SUMMARY:Besloten feest
DESCRIPTION:Vanavond zijn we vanaf 20:00 uur gesloten i.v.m. een besloten feest. Wilt u ook uw eigen feest in de kroeg? Neem contact op voor de vele mogelijkheden: catering\, eigen keuken\, dj\, podium etc. Ons team verzorgt uw complete avond!
URL:https://www.cafeinntlelyveldt.nl/event/besloten-feest-38/
ATTACH;FMTTYPE=image/jpeg:https://www.cafeinntlelyveldt.nl/wp-content/uploads/2022/02/beslotenfeest.jpg
END:VEVENT
END:VCALENDAR