BEGIN:VCALENDAR
VERSION:2.0
PRODID:-//Caf&eacute; Inn 't Lely Veldt - ECPv6.0.11//NONSGML v1.0//EN
CALSCALE:GREGORIAN
METHOD:PUBLISH
X-WR-CALNAME:Caf&eacute; Inn 't Lely Veldt
X-ORIGINAL-URL:https://www.cafeinntlelyveldt.nl
X-WR-CALDESC:Evenementen voor Caf&eacute; Inn 't Lely Veldt
REFRESH-INTERVAL;VALUE=DURATION:PT1H
X-Robots-Tag:noindex
X-PUBLISHED-TTL:PT1H
BEGIN:VTIMEZONE
TZID:Europe/Paris
BEGIN:DAYLIGHT
TZOFFSETFROM:+0100
TZOFFSETTO:+0200
TZNAME:CEST
DTSTART:20240331T010000
END:DAYLIGHT
BEGIN:STANDARD
TZOFFSETFROM:+0200
TZOFFSETTO:+0100
TZNAME:CET
DTSTART:20241027T010000
END:STANDARD
END:VTIMEZONE
BEGIN:VEVENT
DTSTART;TZID=Europe/Paris:20241130T200000
DTEND;TZID=Europe/Paris:20241201T020000
DTSTAMP:20260425T122640
CREATED:20240604T155038Z
LAST-MODIFIED:20240604T155038Z
UID:2084-1732996800-1733018400@www.cafeinntlelyveldt.nl
SUMMARY:Pakjesavond!
DESCRIPTION:Benieuwd wat er in die pakjes zit die aan de bar hangen? Kom kijken! 18+
URL:https://www.cafeinntlelyveldt.nl/event/pakjesavond-2/
END:VEVENT
BEGIN:VEVENT
DTSTART;TZID=Europe/Paris:20241207T200000
DTEND;TZID=Europe/Paris:20241208T020000
DTSTAMP:20260425T122640
CREATED:20240730T185814Z
LAST-MODIFIED:20240806T173714Z
UID:2100-1733601600-1733623200@www.cafeinntlelyveldt.nl
SUMMARY:Ol' Skool Saturdays Live: Left!
DESCRIPTION:Coverband LeFt is een zeskoppige muziekformatie die sinds 2010 samen speelt. Of het nu in huiskamers\, boerenschuren of kroegen is\, ze zijn overal thuis. Met een breed repertoire aan nummers in verschillende talen: perfecte sfeer! Van tijdloze klassiekers tot de nieuwste hits\, bij Left krijg je het beste van beide werelden. Dansen en meezingen zijn gegarandeerd!\nZaal open 20:00 uur\nEntree €5\nVol=vol
URL:https://www.cafeinntlelyveldt.nl/event/ol-skool-saturdays-live-11/
END:VEVENT
BEGIN:VEVENT
DTSTART;TZID=Europe/Paris:20241224T220000
DTEND;TZID=Europe/Paris:20241225T020000
DTSTAMP:20260425T122640
CREATED:20240604T171455Z
LAST-MODIFIED:20241122T135506Z
UID:2087-1735077600-1735092000@www.cafeinntlelyveldt.nl
SUMMARY:Santa komt eraan en: hij neemt DJ Jor-D mee!
DESCRIPTION:Met DJ Jor-D! Zeker weten één van de leukste avonden van het jaar: Kerstavond wordt weer een prachtig feest! \nVanaf 22:00 uur
URL:https://www.cafeinntlelyveldt.nl/event/x-mas-is-coming/
END:VEVENT
BEGIN:VEVENT
DTSTART;TZID=Europe/Paris:20241225T220000
DTEND;TZID=Europe/Paris:20241226T020000
DTSTAMP:20260425T122640
CREATED:20240604T172121Z
LAST-MODIFIED:20241122T135434Z
UID:2090-1735164000-1735178400@www.cafeinntlelyveldt.nl
SUMMARY:Christmas Day Party met DJ Leon!
DESCRIPTION:Met DJ Leon! Deze 1e Kerstdag maken we er ’s avonds weer een knalfeest van; dus haal je pak en mooiste jurk tevoorschijn zodat je op zijn paasbest ;-) verschijnt! \nVanaf 22:00 uur
URL:https://www.cafeinntlelyveldt.nl/event/christmas-day/
END:VEVENT
END:VCALENDAR