BEGIN:VCALENDAR
VERSION:2.0
PRODID:-//Caf&eacute; Inn 't Lely Veldt - ECPv6.0.11//NONSGML v1.0//EN
CALSCALE:GREGORIAN
METHOD:PUBLISH
X-ORIGINAL-URL:https://www.cafeinntlelyveldt.nl
X-WR-CALDESC:Evenementen voor Caf&eacute; Inn 't Lely Veldt
REFRESH-INTERVAL;VALUE=DURATION:PT1H
X-Robots-Tag:noindex
X-PUBLISHED-TTL:PT1H
BEGIN:VTIMEZONE
TZID:Europe/Paris
BEGIN:DAYLIGHT
TZOFFSETFROM:+0100
TZOFFSETTO:+0200
TZNAME:CEST
DTSTART:20260329T010000
END:DAYLIGHT
BEGIN:STANDARD
TZOFFSETFROM:+0200
TZOFFSETTO:+0100
TZNAME:CET
DTSTART:20261025T010000
END:STANDARD
END:VTIMEZONE
BEGIN:VEVENT
DTSTART;TZID=Europe/Paris:20260101T010000
DTEND;TZID=Europe/Paris:20260101T050000
DTSTAMP:20260422T192106
CREATED:20250715T194014Z
LAST-MODIFIED:20251107T165733Z
UID:2277-1767229200-1767243600@www.cafeinntlelyveldt.nl
SUMMARY:Nieuwjaars Afterparty!
DESCRIPTION:Om 01:00 uur gaat het feest pas écht beginnen! Vier het nieuwe jaar gezellig in de kroeg\, met DJ Geer die zorgt voor de beste beats tot in de kleine uurtjes… Kom proosten en dansen en 2025 knallen! Bestel hier op tijd je tickets: \nhttps://shop.justtickets.nl/shop/11440/Nieuwjaars_afterparty_in_het_Cafe
URL:https://www.cafeinntlelyveldt.nl/event/nieuwjaarsnacht-feest/
END:VEVENT
BEGIN:VEVENT
DTSTART;TZID=Europe/Paris:20260110T203000
DTEND;TZID=Europe/Paris:20260111T020000
DTSTAMP:20260422T192106
CREATED:20251221T161816Z
LAST-MODIFIED:20251221T161816Z
UID:2344-1768077000-1768096800@www.cafeinntlelyveldt.nl
SUMMARY:Besloten Feest vanaf 20:30 uur
DESCRIPTION:Vanavond is het Café vanaf 20:30 uur gesloten wegens een besloten feest. Heeft u ook iets te vieren? Vraag naar de vele mogelijkheden: hapjes uit onze eigen keuken\, catering\, live muziek\, podium\, dj etc. Neem contact met ons op via 06-84086664 of loop gewoon even binnen.
URL:https://www.cafeinntlelyveldt.nl/event/besloten-feest-vanaf-2030-uur/
ATTACH;FMTTYPE=image/jpeg:https://www.cafeinntlelyveldt.nl/wp-content/uploads/2022/02/beslotenfeest.jpg
END:VEVENT
BEGIN:VEVENT
DTSTART;VALUE=DATE:20260111
DTEND;VALUE=DATE:20260112
DTSTAMP:20260422T192106
CREATED:20251221T161933Z
LAST-MODIFIED:20251221T161933Z
UID:2346-1768089600-1768175999@www.cafeinntlelyveldt.nl
SUMMARY:Besloten Feest
DESCRIPTION:Vandaag is het Café gesloten wegens een besloten feest. Heeft u ook iets te vieren? Vraag naar de vele mogelijkheden: hapjes uit onze eigen keuken\, catering\, live muziek\, podium\, dj etc. Neem contact met ons op via 06-84086664 of loop gewoon even binnen.
URL:https://www.cafeinntlelyveldt.nl/event/besloten-feest-55/
ATTACH;FMTTYPE=image/jpeg:https://www.cafeinntlelyveldt.nl/wp-content/uploads/2022/02/beslotenfeest.jpg
END:VEVENT
END:VCALENDAR